BEGIN:VCALENDAR
PRODID:-//Intellectual Property Law Section//Calendar Event 1.06//EN
VERSION:1.06
METHOD:PUBLISH
BEGIN:VEVENT
DTSTART:20240131T230000Z
DTEND:20240201T010000Z
DTSTAMP:20240126T223314Z
SEQUENCE:0
STATUS:CONFIRMED
SUMMARY:State Bar of Texas IP Section and USPTO Social Hour
UID:8b86aa69-48af-4902-a5b8-8bb37a573ba4
CLASS:PUBLIC
TRANSP:OPAQUE
END:VEVENT
END:VCALENDAR
