BEGIN:VCALENDAR
PRODID:-//Intellectual Property Law Section//Calendar Event 1.06//EN
VERSION:1.06
METHOD:PUBLISH
BEGIN:VEVENT
DTSTART:20250219T060000Z
DTEND:20250221T060000Z
DTSTAMP:20250124T163833Z
SEQUENCE:0
STATUS:CONFIRMED
SUMMARY:Intellectual Property Litigation and Advanced Intellectual Property Law Courses
UID:2ba9c080-caad-4e78-8085-ada9e08c913e
CLASS:PUBLIC
TRANSP:OPAQUE
END:VEVENT
END:VCALENDAR
