BEGIN:VCALENDAR
PRODID:-//Intellectual Property Law Section//Calendar Event 1.06//EN
VERSION:1.06
METHOD:PUBLISH
BEGIN:VEVENT
DTSTART:20250422T213000Z
DTEND:20250422T230000Z
DTSTAMP:20250325T152019Z
SEQUENCE:0
STATUS:CONFIRMED
SUMMARY:A Panel on the Intersection of Artificial Intelligence & Intellectual Property
UID:44fc68aa-02cb-40fb-b064-2c8d2c86d5cd
CLASS:PUBLIC
TRANSP:OPAQUE
END:VEVENT
END:VCALENDAR
